BEGIN:VCALENDAR
VERSION:2.0
PRODID:-//Dongola School - ECPv5.4.0.2//NONSGML v1.0//EN
CALSCALE:GREGORIAN
METHOD:PUBLISH
X-WR-CALNAME:Dongola School
X-ORIGINAL-URL:https://staging.dongolaschool.com
X-WR-CALDESC:Events for Dongola School
BEGIN:VTIMEZONE
TZID:America/Chicago
BEGIN:DAYLIGHT
TZOFFSETFROM:-0600
TZOFFSETTO:-0500
TZNAME:CDT
DTSTART:20260308T080000
END:DAYLIGHT
BEGIN:STANDARD
TZOFFSETFROM:-0500
TZOFFSETTO:-0600
TZNAME:CST
DTSTART:20261101T070000
END:STANDARD
END:VTIMEZONE
BEGIN:VEVENT
DTSTART;TZID=America/Chicago:20260212T173000
DTEND;TZID=America/Chicago:20260212T203000
DTSTAMP:20260424T021103
CREATED:20260218T220745Z
LAST-MODIFIED:20260218T220745Z
UID:6960-1770917400-1770928200@staging.dongolaschool.com
SUMMARY:Jr. High Volleyball @ Home vs. Century - All 3 teams
DESCRIPTION:
URL:https://staging.dongolaschool.com/event/jr-high-volleyball-home-vs-century-all-3-teams/
END:VEVENT
BEGIN:VEVENT
DTSTART;TZID=America/Chicago:20260212T180000
DTEND;TZID=America/Chicago:20260212T200000
DTSTAMP:20260424T021103
CREATED:20260202T194623Z
LAST-MODIFIED:20260218T220104Z
UID:6893-1770919200-1770926400@staging.dongolaschool.com
SUMMARY:Elementary B-Ball Boys and Girls at Jonesboro
DESCRIPTION:
URL:https://staging.dongolaschool.com/event/elementary-b-ball-boys-girls-at-jonesboro/
END:VEVENT
END:VCALENDAR